BEGIN:VCALENDAR
VERSION:2.0
PRODID:-//Ευγένιος Τζιμογιάννης - ECPv6.15.18//NONSGML v1.0//EN
CALSCALE:GREGORIAN
METHOD:PUBLISH
X-ORIGINAL-URL:https://evgenios-tzimogiannis.gr
X-WR-CALDESC:Ἐκδηλώσεις  για Ευγένιος Τζιμογιάννης
REFRESH-INTERVAL;VALUE=DURATION:PT1H
X-Robots-Tag:noindex
X-PUBLISHED-TTL:PT1H
BEGIN:VTIMEZONE
TZID:UTC
BEGIN:STANDARD
TZOFFSETFROM:+0000
TZOFFSETTO:+0000
TZNAME:UTC
DTSTART:20240101T000000
END:STANDARD
END:VTIMEZONE
BEGIN:VTIMEZONE
TZID:Europe/Moscow
BEGIN:STANDARD
TZOFFSETFROM:+0300
TZOFFSETTO:+0300
TZNAME:MSK
DTSTART:20240101T000000
END:STANDARD
END:VTIMEZONE
BEGIN:VEVENT
DTSTART;TZID=UTC:20250614T160000
DTEND;TZID=UTC:20250615T180000
DTSTAMP:20260421T174814
CREATED:20250328T183546Z
LAST-MODIFIED:20250822T162017Z
UID:63886-1749916800-1750010400@evgenios-tzimogiannis.gr
SUMMARY:Ἐθνικὰ θέματα
DESCRIPTION:Ξεκάθαρες ἀπαντήσεις\, στὰ κρίσιμα διλήμματα τοῦ Ἑλληνισμοῦ στη Διημερίδα τοῦ Κ.Ε.Μ.Ε. “Εὐγένιος Τζιμογιάννης” (ΝΙΚΗ)\, μὲ τίτλο: “Ἐθνικὰ Θέματα καὶ Ὁρατὲς Ἀπειλές” \nΣὲ μιὰ ἐποχὴ ποὺ ἡ κυβέρνηση τῆς Ἑλλάδας ὑποβαθμίζει συστηματικὰ πλῆθος προκλήσεων\, ἐπιθετικῶν καὶ ἀναθεωρητικῶν πρωτοβουλιῶν\, κυρίως ἀπὸ τὴν Τουρκία καὶ τοὺς δορυφόρους της στὴ Νοτιοανατολικὴ Εὐρώπη\, προκλήσεις ποὺ διαμορφώνουν συστηματικὰ τὸ ἔδαφος γιὰ ἐθνικὲς ὀδυνηρὲς ὑποχωρήσεις\, σὲ ὅλα τὰ ἐθνικά μας θέματα\, τὸ Κέντρο Ἐρευνῶν\, Μελετῶν καὶ Ἐπιμόρφωσης (Κ.Ε.Μ.Ε) “Εὐγένιος Τζιμογιάννης”\, ἡ “δεξαμενὴ σκέψης” τοῦ κοινοβουλευτικοῦ κόμματος ΝΙΚΗ\, ἀνέδειξε τὴν τραγικὴ ἀνεπάρκεια καὶ τὶς πρόσφατες ἀβελτηρίες τῆς κυβέρνησης Μητσοτάκη καὶ τῶν προκατόχων της\, σὲ ὅ\,τι ἀφορᾶ στὴν ἀπουσία ἔμπρακτης ὑπεράσπισης τῶν ἐθνικῶν μας δικαίων καὶ δικαιωμάτων\, μέσα ἀπὸ μιὰ ὑψηλοῦ ἐπιπέδου Ἐπιστημονικὴ Διημερίδα\, ποὺ διοργάνωσε στὴ Θεσσαλονίκη\, ὑπὸ τὸν τίτλο “Ἐθνικὰ Θέματα καὶ Ὁρατὲς Ἀπειλές”. \nἙστιάζοντας σὲ ὅλες τὶς παγκόσμιες\, τὶς περιφερειακὲς καὶ τὶς εὐρωπαϊκὲς ἐξελίξεις\, ἡ Διημερίδα τοῦ Κ.Ε.Μ.Ε “Εὐγένιος Τζιμογιάννης\, ἀποτύπωσε ἀφ’ ἑνὸς τὶς ὀλέθριες ὑποχωρήσεις καὶ τὶς τραγικὲς συνέπειες τῆς διπλωματίας τοῦ κατευνασμοῦ\, σὲ ὅ\,τι ἀφορᾶ στὶς Ἑλληνοτουρκικὲς σχέσεις καὶ στὸ Κυπριακὸ κι ἀφ’ ἑτέρου ὑπογράμμισε τὴν ὁλικὴ ἔκλειψη τῆς ἑλληνικῆς διπλωματίας\, σὲ ὅλα τὰ ἐπίπεδα ποὺ ἀφοροῦν στὶς ἐξελίξεις στὸ Οὐκρανικό\, στὴ Μέση Ἀνατολὴ καὶ στὴ ζώνη της Εὐρασίας\, καθὼς καὶ στοὺς ἀμυντικούς -ἐξοπλιστικοὺς προσανατολισμοὺς τῆς Εὐρωπαϊκῆς Ἕνωσης\, ποὺ βάζουν “ἀπὸ τὸ παράθυρο” τὴν κατοχικὴ Τουρκία στὸν πυρῆνα τῶν μελλοντικῶν\, εὐρωπαϊκῶν\, στρατηγικῶν\, ἀμυντικῶν ἀλλὰ καὶ οἰκονομικῶν προσανατολισμῶν τῆς Εὐρώπης. \nἩ θεματική της Διημερίδας\, ποὺ πραγματοποιήθηκε στὸ Συνεδριακὸ Κέντρο τοῦ Ἐκπαιδευτικοῦ καὶ Πολιτιστικοῦ Ἱδρύματος “Διακονία”\, τῆς Ἱερᾶς Μητροπόλεως Θεσσαλονίκης\, δὲν περιορίστηκε μόνο στὰ Ἐθνικὰ Θέματα (Ἑλληνοτουρκικὰ καὶ Κυπριακό\, Σκοπιανό\, ἀνάγκη θωράκισης τῆς Θράκης καὶ τοῦ Αἰγαίου\, Βορειοηπειρωτικό\, ἐξελίξεις στὴ Νοτιοανατολικὴ Εὐρώπη\, Μεταναστευτικό\, Δημογραφικό\, μετατροπὴ τῆς Ἑλλάδας σὲ ἀποικία χρέους\, ὑπονόμευση τῆς ἀξιακῆς κληρονομιᾶς τοῦ Ἔθνους\, ἀπουσία ἀξιοποίησης τῆς πανίσχυρης Ἑλληνικῆς Ὁμογένειας). \nἘπεκτάθηκε καὶ στὸ νέο\, διεθνὲς περιβάλλον\, ἀναδεικνύοντας μιὰ ὁρατὴ πραγματικότητα\, ποὺ ἐγκυμονεῖ ὑπαρξιακοὺς κινδύνους καὶ γιὰ τοὺς δύο πνεύμονες τοῦ Ἑλληνισμοῦ\, τὴν Ἑλλάδα καὶ τὴν Κύπρο. Μέσα ἀπὸ τεκμηριωμένες εἰσηγήσεις\, ἡ Διημερίδα ἀνέδειξε τὶς “δύο Ἑλλάδες”. Τουτέστι\, τὴ σαφῆ δυσαρμονία\, ἀνάμεσα στὴν Ἑλλάδα ποὺ ἀντιστέκεται\, μὲ ὁδηγὸ τὴν Πίστη\, τὴν Κληρονομιά\, τὰ ὁράματα καὶ τὸν πόθο ἀνόρθωσης τοῦ Τόπου. Τοὺς Ἕλληνες ποὺ ἐξάντλησαν καὶ τὰ τελευταῖα περιθώρια ὑπομονῆς\, ζῶντας σὲ συνθῆκες ἄγριας φτωχοποίησης\, ἄγριας ὑπερφορολόγησης\, ἰσοπεδωτικῆς ἀκρίβειας\, μεθοδευμένης ἀντικατάστασης τοῦ πληθυσμοῦ τῆς χώρας\, ἀλλὰ ἐξακολουθοῦν νὰ ἀναζητοῦν διέξοδο ἀπὸ τὴν πολυεπίπεδη κρίση. Ἔναντι τῆς ἄλλης Ἑλλάδας\, αὐτῆς τῆς διαρκοῦς παρακμῆς\, ποὺ τὴν προσωποποιοῦν\, μιὰ κυβέρνηση ποὺ βαφτίζει ἀνάπτυξη τὸ γενικὸ ξεπούλημα τοῦ ἐθνικοῦ πλούτου\, μιὰ ἀντιπολίτευση ἀδύναμη νὰ ἐμπνεύσει καὶ νὰ ἐκφράσει τὴν ἀντεπιθετικὴ πορεία\, ποὺ εἶναι πιὰ ὅρος ἐπιβίωσης τοῦ Ἑλληνισμοῦ καί -ἐσχάτως- κάποιοι\, ἐπίδοξοι σωτῆρες του\, οἱ ὁποῖοι εἶναι ὅμως ἐκεῖνοι πού\, ὡς κυβερνῶντες\, πρωταγωνίστησαν στὴν καταβαράθρωση τοῦ Τόπου. Κι ὅλα αὐτά\, τὴ στιγμὴ ποὺ οἱ δύο μητροπόλεις τοῦ Ἑλληνισμοῦ\, Ἑλλάδα καὶ Κύπρος\, βρίσκονται ξανὰ στὸ σταυροδρόμι κοσμογονικῶν πρωτοβουλιῶν\, γεγονὸς ποὺ πολλαπλασιάζει τὴ στρατηγική τους ἀξία. \n  \nἈπ΄ τὰ συμπεράσματα τῆς Διημερίδας\, τὴν ὁποία μπορεῖτε νὰ παρακολουθήσετε ἀπὸ τὶς ἱστοσελίδες τοῦ Κ.Ε.Μ.Ε. καὶ τοῦ Δημοκρατικού\, Πατριωτικοῦ\, Λαϊκοῦ Κινήματος ΝΙΚΗ\, ξεχωρίζουν: \nΑ) Ἡ ἀπαίτηση ἀλλαγῆς πορείας στὶς  Ἑλληνοτουρκικὲς σχέσεις\, ὁ τερματισμὸς τῆς κατευναστικῆς\, ὑποχωρητικῆς πολιτικῆς\, σὲ ὅλα τὰ ἐπίπεδα (Διακήρυξη τῶν Ἀθηνῶν\, ΑΟΖ\, χωρικὰ ὕδατα\, ἐθνικὰ δίκαια καὶ δικαιώματα στὴν Ἴμβρο\, στὴν Τένεδο\, στὴν Κωνσταντινούπολη\, στὴν Ἅγια-Σοφιά\, στὴ Μονὴ τῆς Χώρας\, στὴν Παναγία Σουμελᾶ \, στὴν ἀναγνώριση τῆς Γενοκτονίας τῶν Ἑλλήνων τοῦ Πόντου καὶ τῆς Μικρασίας κ.α). \nἩ καταδίκη της Διζωνικῆς\, Δικοινοτικῆς Ὁμοσπονδίας\, μὲ πολιτικὴ ἰσότητα\, ὡς πρόταση λύσης γιὰ τὸ Κυπριακό\, τὸ ὁποῖο ἀπαιτεῖται νὰ ἐπανατοποθετηθεῖ\, ὡς ζήτημα εἰσβολῆς\, κατοχῆς\, ἀνθρωπίνων δικαιωμάτων καὶ ἐγκλημάτων πολέμου. Ἡ ἀνάγκη διαμόρφωσης Ἑνιαίου Ἀμυντικοῦ Χώρου μὲ τὴν Κύπρο καὶ ἡ ἐκπλήρωση τῶν ὑποχρεώσεων τῆς Ἑλλάδας\, ὡς ἐγγυήτριας δύναμης \nΒ) Ἡ ἀπαίτηση καταγγελίας τῆς Συμφωνίας τῶν Πρεσπῶν\, ποὺ τὰ Σκόπια παραβιάζουν συστηματικά\, σὲ ἑκατοντάδες περιπτώσεις. Πρὸς τοῦτο\, ἀπαιτεῖται νὰ υἱοθετηθεῖ ἡ Πρόταση Νόμου ποὺ κατέθεσε ἡ ΝΙΚΗ\, γιὰ καταγγελία τῆς Συμφωνίας\, ὅπως προβλέπει σχετικὴ διαδικασία τοῦ ΟΗΕ. Ἡ ἄσκηση πίεσης στὰ Σκόπια\, κατὰ τὶς ἐνταξιακὲς διαπραγματεύσεις τῆς μὲ τὴν Ε.Ε. \nΓ) Ἡ ἀνάγκη γιὰ μιὰ πολιτικὴ ἐνδυνάμωσης\, θωράκισης τῆς Θράκης καὶ τῶν νησιῶν τοῦ Αἰγαίου καὶ εἰδικὰ ἡ ὑποχρέωση ἀποτροπῆς ἐξαγορᾶς ἀκινήτων στὴν ἀκριτικὴ Ἑλλάδα\, ἀπὸ πολῖτες τῆς Τουρκίας. \nΔ) Ἡ ἀπαίτηση ἀνυποχώρητης ὑπεράσπισης τῶν δικαίων καὶ τῶν δικαιωμάτων τοῦ Βορειοηπειρωτικοῦ Ἑλληνισμοῦ. Καὶ ἡ διασύνδεση ὅλων τῶν ζητημάτων ποὺ ἀφοροῦν τὴν Ἐθνική\, Ἑλληνικὴ Μειονότητα\, μὲ τὶς ἐνταξιακὲς διαπραγματεύσεις τῆς Ἀλβανίας μὲ τὴν Ε.Ε. \nΕ) Ἡ ὑποχρέωση τῆς Ἑλλάδας νὰ ἐργαστεῖ γιὰ τὴν ἀνατροπὴ τῆς Μεταναστευτικῆς Πολιτικῆς τῆς Ε.Ε.\, ποὺ οδηγεί στὴν ἀντικατάσταση τοῦ πληθυσμοῦ στὴν πατρίδα μας. Μὲ ταυτόχρονη\, γενναία πολιτικὴ ἀντιμετώπισης τοῦ Δημογραφικοῦ. \nΣΤ) Ἡ ἀνάγκη ἐπείγουσας ἀπελευθέρωσης ἀπὸ τὰ δεσμὰ ποὺ τοῦ ψευδοῦς\, ἐπαχθοῦς\, “μαγειρεμένου” χρέους\, και ἀπὸ τὰ Μνημόνια ποὺ μετέτρεψαν τὴν Ἑλλάδα σὲ “ἀποικία χρέους”\, ὑπονομεύοντας τὴν πορεία της\, τὴν ἄμυνα\, κοινωνικὴ συνοχὴ καὶ τὴν προοπτική της\, τουλάχιστο μέχρι τὴ δύση τοῦ 21ου αἰῶνα\, ἐπιβάλλοντας τὸ διαρκὲς ξεπούλημα τοῦ ἐθνικοῦ πλούτου. Αὐτὸ πού\, οἱ κυβερνήσεις τῆς ὑποταγῆς ἐπιμένουν νὰ παρουσιάζουν ὡς ἐπενδυτικὴ δραστηριότητα στὴν πατρίδα μας. \nΖ) Ἡ ἀπαίτηση γιὰ ἄρση τῆς ἰσχύος ὅλων τῶν Νόμων ποὺ ἐπέβαλε στὴν Ἑλλάδα ἡ ἀπόλυτη ἐναρμόνιση τῆς κυβέρνησης στὴ woke ἀτζέντα\, ὁ συστηματικός\, κυβερνητικὸς ἐθνομηδενισμὸς καὶ οἱ μεθοδευμένες ἐπιθέσεις στὴν ἱστορική\, θρησκευτικὴ καὶ πολιτιστική μας Κληρονομιά. \nΗ) Ἡ ἀδήριτη ἀναγκαιότητα ἀξιοποίησης τῆς τεράστιας δύναμης ποὺ συνιστᾶ γιὰ τὸν Ἑλληνισμὸ ἡ Ἑλληνικὴ Ὁμογένεια\, την οποία ἀπαξιώνουν οἱ κυβερνῶντες\, προκειμένου νὰ μὴ στέκει ἐμπόδιο στὴν κατευναστικὴ καὶ ὑποχωρητικὴ πολιτικὴ ποὺ ἀσκοῦν\, στὸ σύνολο τῶν Ἐθνικῶν μας Θεμάτων. \nἈξίζει\, τέλος\, νὰ ἀναφέρουμε ὅτι στὴ Διημερίδα\, ποὺ τὴν παρακολούθησε πλῆθος κόσμου\, συμμετεῖχαν ἐκτὸς τοῦ Προέδρου τοῦ Κινήματος ΝΙΚΗ\, Βουλευτῆ Α΄ Θεσσαλονίκης\, κ. Δημήτρη Νατσιοῦ\, τοῦ Ἀντιπροέδρου\, κ. Γιώργου Ρούντα\, Βουλευτῆ Λάρισας τοῦ Βουλευτῆ Α΄Ανατολικής Ἀττικῆς\, κ. Τάσου Οἰκονομόπουλου καὶ τοῦ Εὐρωβουλευτῆ τοῦ Κινήματος ΝΙΚΗ κ. Νίκου Ἀναδιώτη (συνδέθηκε διαδικτυακὰ ἀπὸ Βρυξέλλες)\, σημαντικὸς ἀριθμὸς προσωπικοτήτων ἀπὸ τὸν ἀκαδημαϊκὸ χῶρο καὶ φορεῖς τῆς κοινωνίας τῶν πολιτῶν. Ἐνῷ ξεχωριστὴ ἦταν ἡ παρουσία\, ὡς εἰσηγητῶν\, ἐκπροσώπων ἀπὸ τὴν Κύπρο\, ὅπως ὁ Καθηγητής\, Δρ Χρίστος Κληρίδης\, ἐπί κεφαλῆς τοῦ πολιτικοῦ φορέα “Δημοκρατικὴ Ἀλλαγή”\, Καθηγητής – Πρόεδρος τοῦ Τμ. Νομικῆς τοῦ Πανεπιστημίου Frederick\, o Νομικὸς κ. Σίμος Ἀγγελίδης\, Δικηγόρος στὸ Εὐρωπαϊκὸ Δικαστήριο Ἀνθρωπίνων Δικαιωμάτων καὶ στὸ Διεθνὲς Ποινικὸ Δικαστήριο καὶ ὁ Τουρκοκύπριος πολιτικὸς Ὄζ Καραχάν\, ποὺ πρόσφατα κατήγγειλε στὴν Ε.Ε. καὶ στὴν Εἰσαγγελία τῆς Κυπριακῆς Δημοκρατίας τὸν σφετερισμὸ τῶν περιουσιῶν Ἑλληνοκυπρίων\, στὰ κατεχόμενα ἀπὸ τὴν Τουρκία ἐδάφη τῆς Κύπρου. \nΤὸ συνέδριο πραγματοποιήθηκε τὸ Σάββατο 14 Ἰοὐνίου ἀπὸ ὥρα 16:00 ἕως 21:00 καὶ τὴν Κυριακὴ 15 Ἰοὐνίου ἀπὸ ὥρα 12:00 ἕως 18:00 στὴν αἴθουσα συνεδριάσεων τοῦ Ἐκπαιδευτικοῦ καὶ Πολιτιστικοῦ Ἱδρύματος τῆς Ἱερᾶς Μητροπόλεως Θεσσαλονίκης “Διακονία¨\, Πλαστήρα 65\, ΤΚ 54250 Πυλαία.
URL:https://evgenios-tzimogiannis.gr/event/%cf%84%ce%b1-%ce%b5%ce%b8%ce%bd%ce%b9%ce%ba%ce%ac-%ce%bc%ce%b1%cf%82-%ce%b6%ce%b7%cf%84%ce%ae%ce%bc%ce%b1%cf%84%ce%b1/
LOCATION:Εκπαιδευτικό και Πολιτιστικό Ίδρυμα Άγιος Γρηγόριος ο Παλαμάς\, Πλαστήρα 65\,\, Θεσσαλονίκη\, 54250
CATEGORIES:Συνέδριο
ATTACH;FMTTYPE=image/jpeg:https://evgenios-tzimogiannis.gr/wp-content/uploads/2025/03/RollUp_Ethnika_80x200_LR-1-scaled.jpg
ORGANIZER;CN="AMKE %CE%95%CE%A5%CE%93%CE%95%CE%9D%CE%99%CE%9F%CE%A3 %CE%A4%CE%96%CE%99%CE%9C%CE%9F%CE%93%CE%99%CE%91%CE%9D%CE%9D%CE%97%CE%A3":MAILTO:grammateia@evgenios-tzimogiannis.gr
END:VEVENT
BEGIN:VEVENT
DTSTART;TZID=UTC:20250517T163000
DTEND;TZID=UTC:20250518T203000
DTSTAMP:20260421T174814
CREATED:20250328T183208Z
LAST-MODIFIED:20250922T133620Z
UID:63883-1747499400-1747600200@evgenios-tzimogiannis.gr
SUMMARY:Οἰκογένεια
DESCRIPTION:«Οἰκογένεια. Προσευχή\, νὰ ἀναδείξει ὁ Θεὸς νέους Μακκαβαίους (Ἅγιος Παΐσιος Ἁγιορείτης)\nΤὸ συνέδριο ἀνέδειξε τὴν κρίση ποὺ διέρχεται ἡ ἑλληνικὴ οἰκογένεια σ’ ὅλες της τὶς διαστάσεις καταθέτοντας ρεαλιστικὲς λύσεις \nΔημήτριος Νατσιός: καίριος ὁ ρόλο τῆς οἰκογένειας καὶ τῆς παιδείας στὴν πνευματικὴ καὶ ἐθνικὴ ἀναγέννηση \nἈθήνα\, 22 Μαΐου 2025. Μὲ μεγάλη ἐπιτυχία καὶ τὴν ἀθρόα συμμετοχὴ τοῦ κοινοῦ τόσο διὰ ζώσης\, ὅσο καὶ διαδικτυακά\, τὸ Κέντρο Ἐρευνῶν\, Μελετῶν καὶ Ἐπιμόρφωσης «Εὐγένιος Τζιμογιάννης» διοργάνωσε ἐπιστημονικὸ συνέδριο στὶς 17 καὶ 18 Μαΐου 2025\, στὴν αἴθουσα «Μελίνα Μερκούρη» τοῦ Σταδίου Εἰρήνης καὶ Φιλίας\, μὲ θέμα «Οἰκογένεια. Προσευχή\, νὰ ἀναδείξει ὁ Θεὸς νέους Μακκαβαίους»\, ἐμπνευσμένο ἀπὸ λόγια τοῦ Ἁγίου Παϊσίου τοῦ Ἁγιορείτη. \nΤὸ συνέδριο ἀνέδειξε τὴν κρίση ποὺ διέρχεται ἡ ἑλληνικὴ οἰκογένεια σ’ ὅλες της τὶς διαστάσεις\, προσεγγίζοντας τὸ θέμα\, τόσο ἐπιστημονικά\, ὅσο καὶ βιωματικά\, ἐνῷ ταυτόχρονα\, προσέφερε ρεαλιστικὲς λύσεις γιὰ τὴν πνευματική\, κοινωνικὴ καὶ πολιτική της ἀνάταξη. \nΣτὴν ἐπιστημονικὴ αὐτὴ συνάντηση συμμετεῖχαν περισσότεροι ἀπὸ εἴκοσι πέντε εἰδικοὶ ἐπιστήμονες\, ἐκπρόσωποι θεσμῶν\, ἀκαδημαϊκοί\, ἰατροί\, ψυχολόγοι\, ἐκπαιδευτικοὶ καὶ πνευματικοὶ καθοδηγητές\, καλύπτοντας εὐρὺ φάσμα θεμάτων. Ἀπὸ τὴν δημογραφία καὶ τὴν δημόσια ὑγεία ἕως τὴν Θεολογία\, τὴν βιοηθικὴ καὶ τὶς παιδαγωγικὲς προσεγγίσεις. \nἩ πρώτη ἡμέρα ξεκίνησε τὸ ἀπόγευμα τοῦ Σαββάτου (17.52015) μὲ τέλεση Ἁγιασμοῦ ἀπὸ τὸν Θεοφιλέστατο Ἐπίσκοπο Ἀχελώου κ. Νήφωνα\, Πρωτοσύγκελο καὶ ἐκπρόσωπο τοῦ Σεβασμιωτάτου Μητροπολίτου τῆς Ἱερᾶς Μητροπόλεως Πειραιῶς καὶ Φαλήρου κ. Σεραφείμ. Τὴν ἐναρκτήρια διαδικασία τίμησε μὲ τὴν παρουσία του ὁ Σεβασμιώτατος Μητροπολίτης Γλυφάδας κ. Ἀντώνιος. \nἈκολούθησε εἰσαγωγικὴ ὁμιλία ἀπὸ τὸν Πρόεδρο τῆς Ὀργανωτικῆς Ἐπιτροπῆς καὶ τοῦ Κ.Ε.Μ.Ε. Δρ Δημήτριο Μεταλληνό. \nΤὴν ἐναρκτήρια ὁμιλία ἐκφώνησε ὁ Πρόεδρος τοῦ Δημοκρατικοῦ Πατριωτικοῦ Λαϊκοῦ Κινήματος – ΝΙΚΗ\, Δημήτριος Νατσιός. Ὡς ἐκπαιδευτικὸς μὲ πολυετῆ ἐμπειρία\, ἀνέπτυξε τὸ θέμα «Παιδιὰ καὶ Παιδεία»\, δίνοντας ἔμφαση στὸν καίριο ρόλο τῆς οἰκογένειας καὶ τῆς παιδείας στὴν πνευματικὴ καὶ ἐθνικὴ ἀναγέννηση. \nἈκολούθησαν παρεμβάσεις βουλευτῶν τοῦ Κινήματος ΝΙΚΗ. Ἡ Ἀσπασία Κουρουπάκη κατέθεσε συγκεκριμένες προτάσεις γιὰ τὴν ἀναστροφὴ τοῦ κρίσιμου δημογραφικοῦ προβλήματος. Ὁ Ἀνδρέας Βορύλλας ἀνέλυσε τὴν μακροχρόνια οἰκονομικὴ κρίση ποὺ «πνίγει» τὴν σύγχρονη ἑλληνικὴ οἰκογένεια\, ἐπιβαρύνοντάς την μὲ κοινωνικά\, ἠθικὰ καὶ ψυχολογικὰ ἀδιέξοδα. \nΣύντομες τοποθετήσεις ἔκαναν ὁ Εὐρωβουλευτὴς τοῦ Κινήματος Νῖκος Ἀναδιώτης\, ὁ βουλευτὴς Β3’ Νοτίου Τομέα Ἀθηνῶν Νικόλαος Βρεττὸς καὶ ὁ βουλευτὴς Ἀχαΐας Σπυρίδων Τσιρώνης. \nἩ δεύτερη συνεδρία τοῦ Σαββάτου εἶχε ἐπιστημονικὸ χαρακτῆρα\, μὲ συντονίστριες τὶς Καθηγήτριες Ἰατρικῆς\, Ἐρριέττα Πελίδου καὶ Μαγδαληνὴ Τσολάκη. Ἡ ψυχολόγος Εὐγενία Σαρηγιαννίδη ἀνέπτυξε τὶς συνέπειες τῶν κοινωνικῶν ἀνακατατάξεων στὸν παραδοσιακὸ θεσμὸ τῆς οἰκογένειας. Ἡ καθηγήτρια Ἰατρικῆς Ἐρριέττα Πελίδου παρουσίασε τὶς προκλήσεις τῆς φυσιολογικῆς καὶ παθολογικῆς γήρανσης καὶ τὴ σημασία τῆς πρόληψης γιὰ τὴν ἐνίσχυση τῆς ποιότητας ζωῆς στὶς μεγαλύτερες ἡλικίες. \nἩ ὁμότιμη καθηγήτρια Νευρολογίας Μαγδαληνὴ Τσολάκη ἀναφέρθηκε στὶς πολυδιάστατες δυσκολίες ποὺ ἀντιμετωπίζουν οἱ οἰκογένειες μὲ ἄτομα μὲ σωματικὴ ἢ νοητικὴ ἀναπηρία\, τονίζοντας τὴν ἀνάγκη συστηματικῆς ὑποστήριξης τῶν φροντιστῶν. Ἡ Θωμαὴ Στεφανοπούλου καὶ ὁ Γιάννης-Πολυκράτης Χρύσης ἑστίασαν στὸ πνευματικὸ καὶ ἀνθρωπιστικὸ καθῆκον τῆς κοινωνίας πρὸς τὸν ἀδύναμο συνάνθρωπο\, ὑπογραμμίζοντας ὅτι τὸ μέτρο τοῦ πολιτισμοῦ μας εἶναι ἡ φροντίδα γιὰ τὸν ἄλλον. \nἩ δεύτερη ἡμέρα τοῦ Συνεδρίου\, τὴν Κυριακὴ (18.5.2025) ὑπὸ τὸν συντονισμὸ τῶν κ.κ. Ἀντρέα Μπλάνου καὶ Ἰωάννη Ἰντζέ\, ξεκίνησε μὲ παρεμβάσεις ἀπὸ τοὺς βουλευτὲς τοῦ Κινήματος ΝΙΚΗ Ἀναστάσιο Οἰκονομόπουλο καὶ Γεώργιο Ρούντα\, οἱ ὁποῖοι ὑποστήριξαν ὅτι ἡ παραδοσιακή\, χριστιανικὴ οἰκογένεια εἶναι θεμέλιο τῆς κοινωνίας καὶ τοῦ ἔθνους. Ἄσκησαν κριτικὴ στὶς νεόφερτες νομοθεσίες\, ὅπως αὐτὲς γιὰ τὸ σύμφωνο συμβίωσης\, τὶς ἀμβλώσεις καὶ τὴν ἀλλαγὴ φύλου\, ποὺ συνιστοῦν ἀπειλὴ γιὰ τὴν κοινωνικὴ συνοχή. Τόνισαν παράλληλα τὴν ἀνάγκη ἐπιστροφῆς στὶς παραδοσιακὲς ἀξίες καὶ κάλεσαν σὲ πνευματικὴ καὶ ἠθικὴ ἀντίσταση γιὰ τὴ διαφύλαξη τῆς ἑλληνικῆς ταυτότητας \nἈκολούθησαν διαδοχικὲς συνεδρίες\, μὲ ἰδιαίτερα θέματα ποὺ ἅπτονται τῶν προβλημάτων τῆς δημογραφικῆς συρρίκνωσης καὶ τῆς δραματικῆς μέϊωσης τοῦ πληθυσμοῦ στὴν χώρα. \nΣτὸ ἐπίκεντρο βρέθηκε τὸ δημογραφικὸ πρόβλημα τῆς χώρας καὶ οἱ αἰτίες του. Ἡ σύμβουλος προσωπικῆς ἀνάπτυξης Ἀλεξάνδρα Χοροζίδου παρουσίασε τὴν ἀνάγκη γνωριμίας πρὶν τὸν γάμο καὶ πνευματικῆς συμβατότητας μεταξὺ τῶν συντρόφων καὶ ὁ  Κωνσταντῖνος Μπαλωμένος\, μαθηματικὸς καὶ πρόεδρος τοῦ Συλλόγου Πολυτέκνων Ἰωαννίνων\, παρέθεσε στοιχεῖα ποὺ καταδεικνύουν τὴ δραματικὴ μείωση τοῦ ἑλληνικοῦ πληθυσμοῦ. \nὉ Δημήτριος Καμπισιούλης\, ὑποστράτηγος ε.α. καὶ πατέρας ὑπερπολύτεκνης οἰκογένειας\, πρότεινε ἕνα νέο μοντέλο δημογραφικῆς πολιτικῆς\, βασισμένο στὴν ἐνίσχυση τῶν γεννήσεων καὶ ὄχι στὴν ἀντικατάσταση τοῦ πληθυσμοῦ μέσῳ τῆς μετανάστευσης. Ὁ ψυχολόγος Στέφανος Σιδηρόπουλος περιέγραψε τὶς ψυχικὲς συνέπειες τῆς συνειδητῆς ἀτεκνίας καὶ τῶν ἐκτρώσεων\, ἀναδεικνύοντας τὸ ὑπαρξιακὸ κενὸ ποὺ δημιουργεῖται στὶς μετέπειτα ἡλικίες. \nὉ τομεάρχης νεολαίας τῆς ΝΙΚΗΣ Ἀνδρέας Γκοτσόπουλος ἀνέλυσε τὰ αἴτια ἀπομάκρυνσης τῶν Millenials ἀπὸ τὸν γάμο καὶ τὴν τεκνογονία\, ἑστιάζοντας στὸν ἀτομικισμό\, τὴν κουλτούρα εὐζωίας καὶ τὴν ἀπαξίωση τῶν παραδοσιακῶν ἀξιῶν\, ἐνῷ ὁ εἰδικὸς παιδαγωγός\, Νικόλαος Σουτόπουλος ὑποστήριξε τὴ σημασία τῶν σχολῶν γονέων καὶ τῆς συνεργασίας σχολείου-οἰκογένειας. \nΟἱ Ἰωάννης Καγκάνης καὶ ὁ Πέτρος Παπαγεωργίου παρουσίασαν συγκινητικὲς βιωματικὲς μαρτυρίες γιὰ τὴν υἱοθεσία καὶ τὸν ρόλο τῶν παππούδων καὶ γιαγιάδων στὴν οἰκογενειακὴ ἀγωγή. Ἡ δικηγόρος Μακρίνα Ράγκα-Τσούπρα ἀνέλυσε τὸ νομικὸ πλαίσιο τῆς υἱοθεσίας καὶ τὶς προσαρμογὲς ποὺ ἀπαιτοῦνται στὴ σύγχρονη κοινωνικὴ πραγματικότητα\, μέσα ἀπὸ προσωπικό της παράδειγμα. \nἈκολούθησε συνεδρία ποὺ ἑστίασε σὲ ζητήματα βιοηθικῆς\, γονιμότητας καὶ πνευματικῆς προετοιμασίας γιὰ τὴ δημιουργία οἰκογένειας. Ὁ γυναικολόγος Γεώργιος Γεωργαδάκης ἀνέπτυξε τὴν ἱερότητα τῆς ἀνθρώπινης γονιμοποίησης\, τονίζοντας ὅτι τὸ πρῶτο κύτταρο συνιστᾶ ἤδη ἀνθρώπινη ζωή\, μὲ τὴν μαῖα Μαρία-Μαῦρα Στόκου νὰ ἀναφέρεται στὴ σημασία τῆς ἐμπειρίας τοῦ τοκετοῦ ὡς ἐνδυνάμωσης τῆς μητρικῆς ταυτότητας. \nὉ πολύτεκνος γονέας Ἀργύριος Μαργαρώνης μίλησε συγκινητικὰ γιὰ τὴν πολυτεκνία ὡς στάση ζωῆς καὶ ἔμπρακτη ἀπόδειξη πίστης καὶ ὁ τομεάρχης τοῦ ἀθλητισμοῦ τῆς ΝΙΚΗΣ Βασίλειος Ντάκουλας\, ἀπὸ τοὺς πρωτεργάτες τοῦ Συνεδρίου\, ἀναφέρθηκε στὸν ρόλο τοῦ ἀθλητισμοῦ στὴ σωματικὴ καὶ ἠθικὴ διαπαιδαγώγηση τῶν παιδιῶν ἐντὸς τῆς οἰκογένειας. \nἩ πέμπτη καὶ καταληκτικὴ συνεδρία προσέδωσε Θεολογικὸ καὶ πολιτισμικὸ βάθος στὸ συνέδριο. Ὁ καθηγητὴς Κωνσταντῖνος Καρακατσάνης παρουσίασε μαρτυρίες γιὰ τὸν Ἅγιο Παΐσιο καὶ τὴν πνευματική του θεώρηση γιὰ τὸν θεσμὸ τῆς οἰκογένειας. Ὁ πρωτοπρεσβύτερος π. Θεμιστοκλῆς Χριστοδούλου μίλησε γιὰ τὴν ἐξομολόγηση ὡς θεραπεία καὶ μέσο ἑνότητας\, ἐνῷ ὁ π. Μιλτιάδης Ζέρβας ἀναφέρθηκε στὴ δυναμικὴ τοῦ γάμου ὡς ὁδοῦ ἁγιότητας. \nὉ ἱστορικὸς Δρ Γεώργιος Γαστεράτος παρουσίασε τὸ θέμα «τὸ παιδὶ στὴ Ρωμανία – Βυζάντιο»\, ὡς ὑποκείμενο ἀγωγῆς καὶ θεολογικῆς ἀνατροφῆς. Ἡ ἐκπαιδευτικὸς καὶ συγγραφέας Δρ Ἀγγελικὴ Μαστρομιχαλάκη τόνισε τὸν ρόλο τοῦ ποιοτικοῦ παιδικοῦ βιβλίου στὴν πνευματικὴ καλλιέργεια τῶν παιδιῶν καὶ τῶν ἐφήβων. \nΤὸ συνέδριο ὁλοκληρώθηκε μὲ τὰ τελικὰ πορίσματα. Ἡ καθηγήτρια Δρ Συγκλητὴ Ἐρριέττα Πελίδου παρουσίασε τὶς ἰατρικὲς διαστάσεις\, ἡ κα Μαρία Μαγγίνα τὶς κοινωνικές\, ὁ κ. Σπύρος Παπαδόπουλος τὶς θεσμικὲς διαστάσεις τῶν θεμάτων καὶ ὁ Πρόεδρος τοῦ Κ.Ε.Μ.Ε. Δρ Δημήτριος Μεταλληνὸς τὶς Πνευματικὲς προεκτάσεις. Προτάθηκαν μέτρα στήριξης τῶν νέων οἰκογενειῶν\, ἐνίσχυσης τῶν πολυτέκνων\, ἐπιμόρφωσης γιὰ τὸν γάμο καὶ τὴν υἱοθεσία\, ἀναβάθμισης τῆς θεολογικῆς ἐκπαίδευσης καὶ ἵδρυσης σχολῶν γονέων. \nΜὲ συγκίνηση καὶ αἴσθημα ἑνότητας\, ὁ πρόεδρος τῆς ΝΙΚΗΣ Δημήτριος Νατσιός\, ἔκλεισε τὶς ἐργασίες τοῦ συνεδρίου\, χαρακτηρίζοντάς το ἐγχείρημα ὡς ἀπόλυτα ἐπιτυχημένο. Τόνισε τὴν σημασία τῆς προβολῆς τῆς οἰκογένειας καὶ τῆς ἑλληνικῆς ταυτότητας\, εὐχαρίστησε τοὺς συντελεστὲς ποὺ ἐργάστηκαν γι’ αὐτὸ τὸ συνέδριο\, ἐνῷ ἀναφέρθηκε στὸν ἐκλιπόντα συνιδρυτὴ τοῦ Κινήματος Εὐγένιο Τζιμογιάννη\, καλῶντας σὲ ἀγωνιστικότητα\, ἑνότητα καὶ πίστη. \nἘπισήμανε ὅτι ἡ ΝΙΚΗ προχωρᾶ δυναμικὰ πρὸς τὴν ἐκπλήρωση τῆς ἀποστολῆς της. \nΤὸ Γραφεῖο Τύπου τοῦ ΚΕΜΕ «Εὐγένιος Τζιμογιάννης» \n« Prev1 / 4Next »Ἀγγελική Μαστρομιχαλάκη | Τὸ βιβλίο γιὰ παιδιὰ καὶ ἐφήβους\, ὡς ταξίδι ζωῆς.  Δρ ΦιλοσοφίαςΓεώργιος Γαστεράτος | Τὸ παιδὶ στη Ρωμανία/«Βυζάντιο». Διδάσκων Τμ. Ἱστορίας Ἰονίου ΠανεπιστημίουΠρωτοπρεσβύτερος π. Μιλτιάδης Ζέρβας | Γάμος: Ἀλλάζοντας τὸν κόσμοΠρωτοπρεσβύτερος π. Θεμιστοκλῆς Χριστοδούλου | Οἰκογένεια καὶ ἐξομολόγηση. Δρ Θεολογίας.Κωνσταντῖνος Καρακατσάνης | Ἅγιος Παΐσιος καὶ Οἰκογένεια. Καθηγητής Πυρηνικῆς Ἰατρικῆς.Μαρία-Μαῦρα Στόκου | Τοκετός: Γιὰ μιὰ ὄμορφη κι ένδυναμωτικὴ ἐμπειρία\, Μαία MSc\, IBCLCΓεώργιος Γεωργαδάκης | Τὸ θαῦμα τῆς ἀνθρώπινης γονιμοποίησης\, Χειρουργὸς Γυναικολόγος ΜαιευτῆραςΒασίλειος Ντάκουλας | Ἀθλητισμὸς καὶ οἰκογένεια\, Τομεάρχης Ἀθλητισμοῦ  Κινήματος ΝΙΚΗἸωάννης Γκαγκάνης | Ἡ βίωση τῆς υἱοθεσίας« Prev1 / 4Next »
URL:https://evgenios-tzimogiannis.gr/event/%ce%bf%ce%b9%ce%ba%ce%bf%ce%b3%ce%ad%ce%bd%ce%b5%ce%b9%ce%b1/
LOCATION:Στάδιο Ειρήνης και Φιλίας – Αίθουσα Μελίνα Μερκούρη\, Λεωφόρος Εθνάρχου Μακαρίου 1\, Νέο Φάληρο\, 18547
CATEGORIES:Συνέδριο
ATTACH;FMTTYPE=image/jpeg:https://evgenios-tzimogiannis.gr/wp-content/uploads/2025/05/DSF0317-scaled.jpg
ORGANIZER;CN="AMKE %CE%95%CE%A5%CE%93%CE%95%CE%9D%CE%99%CE%9F%CE%A3 %CE%A4%CE%96%CE%99%CE%9C%CE%9F%CE%93%CE%99%CE%91%CE%9D%CE%9D%CE%97%CE%A3":MAILTO:grammateia@evgenios-tzimogiannis.gr
END:VEVENT
BEGIN:VEVENT
DTSTART;TZID=Europe/Moscow:20250215T170000
DTEND;TZID=Europe/Moscow:20250215T210000
DTSTAMP:20260421T174814
CREATED:20250328T181345Z
LAST-MODIFIED:20250822T161830Z
UID:63876-1739638800-1739653200@evgenios-tzimogiannis.gr
SUMMARY:Τὸ Βορειοηπειρωτικὸ στὸ νέο διεθνὲς καὶ περιφερειακὸ περιβάλλον
DESCRIPTION:Τὸ πλαίσιο τῶν διεθνῶν συνθηκῶν καὶ οἱ ἀπαράγραπτες ὑποχρεώσεις τῆς μητέρας πατρίδας.
URL:https://evgenios-tzimogiannis.gr/event/%cf%84%ce%bf-%ce%b2%ce%bf%cf%81%ce%b5%ce%b9%ce%bf%cf%80%ce%b7%cf%81%cf%89%cf%84%ce%b9%ce%ba%cf%8c-%cf%83%cf%84%ce%bf-%ce%bd%ce%ad%ce%bf-%ce%b4%ce%b9%ce%b5%ce%b8%ce%bd%ce%ad%cf%82-%ce%ba%ce%b1%ce%b9/
LOCATION:Ιωάννινα\, the lake hotel\, Αχέροντος 4\, Ιωάννινα\, Greece
CATEGORIES:Συνέδριο
ATTACH;FMTTYPE=image/jpeg:https://evgenios-tzimogiannis.gr/wp-content/uploads/2025/03/Afisa_V_Ipiros_A3_HR-1_page-0001-1-scaled.jpg
END:VEVENT
END:VCALENDAR